BEGIN:VCALENDAR
VERSION:2.0
PRODID:-//IP.Board Calendar 4.4.10//EN
METHOD:PUBLISH
CALSCALE:GREGORIAN
X-WR-CALNAME:Events
BEGIN:VTIMEZONE
TZID:Europe/London
TZURL:http://tzurl.org/zoneinfo/Europe/London
X-LIC-LOCATION:Europe/London
BEGIN:DAYLIGHT
TZOFFSETFROM:+0000
TZOFFSETTO:+0100
TZNAME:BST
DTSTART:20220327T020000Z
RRULE:FREQ=YEARLY;BYMONTH=3;BYDAY=-1SU
END:DAYLIGHT
BEGIN:STANDARD
TZOFFSETFROM:+0100
TZOFFSETTO:+0000
TZNAME:GMT
DTSTART:20221030T020000Z
RRULE:FREQ=YEARLY;BYMONTH=10;BYDAY=-1SU
END:STANDARD
END:VTIMEZONE
BEGIN:VEVENT
SUMMARY:Hide and Seek
DTSTAMP:20221202T214317Z
SEQUENCE:0
UID:126-1-31cca8678c9faba020716f615d63645b@wartale.com
ORGANIZER;CN="L":forums@wartale.com
DESCRIPTION:\n	Hello everyone !\n\n\n\n	 \n\n\n\n	We will have a Hide a
	nd Seek event again ! ?\n\n\n	 \n\n\n\n	The event will happen this Sunda
	y\, Dec 4 at 11 PM server time (Odin server). The prizes for the 3 first 
	rounds will be:\n\n\n\n	 \n\n\n\n	1x Fluence Stone (50%) + 1x 24 hours T
	hird Eye + 1x 24 hours Exp Potion (Per round).\n\n\n\n	 \n\n\n\n	We will 
	have more than 3 rounds and the prize will be a bit better.\n\n\n\n	 \n\n
	\n\n	See you there ?
DTSTART:20221204T220000Z
END:VEVENT
END:VCALENDAR
