BEGIN:VCALENDAR
VERSION:2.0
PRODID:-//IP.Board Calendar 4.4.10//EN
METHOD:PUBLISH
CALSCALE:GREGORIAN
X-WR-CALNAME:Events
BEGIN:VTIMEZONE
TZID:Europe/London
TZURL:http://tzurl.org/zoneinfo/Europe/London
X-LIC-LOCATION:Europe/London
BEGIN:DAYLIGHT
TZOFFSETFROM:+0000
TZOFFSETTO:+0100
TZNAME:BST
DTSTART:20230326T020000Z
RRULE:FREQ=YEARLY;BYMONTH=3;BYDAY=-1SU
END:DAYLIGHT
BEGIN:STANDARD
TZOFFSETFROM:+0100
TZOFFSETTO:+0000
TZNAME:GMT
DTSTART:20231029T020000Z
RRULE:FREQ=YEARLY;BYMONTH=10;BYDAY=-1SU
END:STANDARD
END:VTIMEZONE
BEGIN:VEVENT
SUMMARY:Quiz Event
DTSTAMP:20231114T232343Z
SEQUENCE:0
UID:163-1-31cca8678c9faba020716f615d63645b@wartale.com
ORGANIZER;CN="L":forums@wartale.com
DESCRIPTION:\n	Hello everyone\,\n\n\n\n	 \n\n\n\n	Quiz Event is back ! 
	We'll have some fun on Nov 16\, at 1:30 am server time. Prizes will be pre
	mium items per round 😀\n\n\n\n	 \n\n\n\n	Questions will have to be an
	swered on trade chat.\n\n\n\n	 \n\n\n\n	See ya there ✅\n\n
DTSTART:20231116T003000Z
END:VEVENT
END:VCALENDAR
