BEGIN:VCALENDAR
VERSION:2.0
PRODID:-//IP.Board Calendar 4.4.10//EN
METHOD:PUBLISH
CALSCALE:GREGORIAN
X-WR-CALNAME:Events
BEGIN:VTIMEZONE
TZID:Europe/London
TZURL:http://tzurl.org/zoneinfo/Europe/London
X-LIC-LOCATION:Europe/London
BEGIN:DAYLIGHT
TZOFFSETFROM:+0000
TZOFFSETTO:+0100
TZNAME:BST
DTSTART:20240331T020000Z
RRULE:FREQ=YEARLY;BYMONTH=3;BYDAY=-1SU
END:DAYLIGHT
BEGIN:STANDARD
TZOFFSETFROM:+0100
TZOFFSETTO:+0000
TZNAME:GMT
DTSTART:20241027T020000Z
RRULE:FREQ=YEARLY;BYMONTH=10;BYDAY=-1SU
END:STANDARD
END:VTIMEZONE
BEGIN:VEVENT
SUMMARY:Boss Event in Land of Chaos
DTSTAMP:20240517T183749Z
SEQUENCE:0
UID:171-1-31cca8678c9faba020716f615d63645b@wartale.com
ORGANIZER;CN="L":forums@wartale.com
DESCRIPTION:\n	Hello everyone ! 🙂\n\n\n\n	 \n\n\n\n	Prepare for a w
	ave of Super Bosses this saturday (May 18th) at 6:30 pm server time. Be
	 ready to capture some mounts this time! ⚔️\n\n\n\n	 \n\n\n\n	See yo
	u there\,\n\n
DTSTART:20240518T163000Z
DTEND:20240518T173000Z
END:VEVENT
END:VCALENDAR
